Workbook

Sheet Resumen
A1: Control de gastos
A2: Todo se calcula solo a partir de las hojas Movimientos y Ahorro. Aquí no hay que escribir nada.
A3: ="Año "&Ajustes!$B$4
A5: Ver mi dinero a fecha: | B5: =TODAY() | C5: Escribe otra fecha para ver cuánto tenías ese día. Con HOY() ves el saldo actual.
A7: Dinero disponible | B7: Ahorrado | C7: Total (disponible + ahorro) | D7: Ingresos del año | E7: Gastos del año | F7: Ingresos − gastos del año
A8: =Ajustes!$B$5+SUMIFS(Movimientos!$E$5:$E$1004,Movimientos!$B$5:$B$1004,"Ingreso",Movimientos!$A$5:$A$1004,"<="&$B$5)-SUMIFS(Movimientos!$E$5:$E$1004,Movimientos!$B$5:$B$1004,"Gasto",Movimientos!$A$5:$A$1004,"<="&$B$5)-(SUMIFS(Ahorro!$D$5:$D$504,Ahorro!$B$5:$B$504,"Aportación",Ahorro!$A$5:$A$504,"<="&$B$5)-SUMIFS(Ahorro!$D$5:$D$504,Ahorro!$B$5:$B$504,"Retirada",Ahorro!$A$5:$A$504,"<="&$B$5)) | B8: =Ajustes!$B$6+(SUMIFS(Ahorro!$D$5:$D$504,Ahorro!$B$5:$B$504,"Aportación",Ahorro!$A$5:$A$504,"<="&$B$5)-SUMIFS(Ahorro!$D$5:$D$504,Ahorro!$B$5:$B$504,"Retirada",Ahorro!$A$5:$A$504,"<="&$B$5)) | C8: =A8+B8 | D8: =SUMIFS(Movimientos!$E$5:$E$1004,Movimientos!$B$5:$B$1004,"Ingreso",Movimientos!$A$5:$A$1004,">="&DATE(Ajustes!$B$4,1,1),Movimientos!$A$5:$A$1004,"<"&DATE(Ajustes!$B$4+1,1,1)) | E8: =SUMIFS(Movimientos!$E$5:$E$1004,Movimientos!$B$5:$B$1004,"Gasto",Movimientos!$A$5:$A$1004,">="&DATE(Ajustes!$B$4,1,1),Movimientos!$A$5:$A$1004,"<"&DATE(Ajustes!$B$4+1,1,1)) | F8: =D8-E8
A10: Mes a mes
A11: Mes | B11: Ingresos | C11: Gastos | D11: Ingresos − gastos | E11: Ahorrado en el mes | F11: Dinero disponible a fin de mes
A12: =DATE(Ajustes!$B$4,1,1) | B12: =SUMIFS(Movimientos!$E$5:$E$1004,Movimientos!$B$5:$B$1004,"Ingreso",Movimientos!$A$5:$A$1004,">="&$A12,Movimientos!$A$5:$A$1004,"<"&EDATE($A12,1)) | C12: =SUMIFS(Movimientos!$E$5:$E$1004,Movimientos!$B$5:$B$1004,"Gasto",Movimientos!$A$5:$A$1004,">="&$A12,Movimientos!$A$5:$A$1004,"<"&EDATE($A12,1)) | D12: =B12-C12 | E12: =SUMIFS(Ahorro!$D$5:$D$504,Ahorro!$B$5:$B$504,"Aportación",Ahorro!$A$5:$A$504,">="&$A12,Ahorro!$A$5:$A$504,"<"&EDATE($A12,1))-SUMIFS(Ahorro!$D$5:$D$504,Ahorro!$B$5:$B$504,"Retirada",Ahorro!$A$5:$A$504,">="&$A12,Ahorro!$A$5:$A$504,"<"&EDATE($A12,1)) | F12: =Ajustes!$B$5+SUMIFS(Movimientos!$E$5:$E$1004,Movimientos!$B$5:$B$1004,"Ingreso",Movimientos!$A$5:$A$1004,"<"&EDATE($A12,1))-SUMIFS(Movimientos!$E$5:$E$1004,Movimientos!$B$5:$B$1004,"Gasto",Movimientos!$A$5:$A$1004,"<"&EDATE($A12,1))-(SUMIFS(Ahorro!$D$5:$D$504,Ahorro!$B$5:$B$504,"Aportación",Ahorro!$A$5:$A$504,"<"&EDATE($A12,1))-SUMIFS(Ahorro!$D$5:$D$504,Ahorro!$B$5:$B$504,"Retirada",Ahorro!$A$5:$A$504,"<"&EDATE($A12,1)))
A13: =DATE(Ajustes!$B$4,2,1) | B13: =SUMIFS(Movimientos!$E$5:$E$1004,Movimientos!$B$5:$B$1004,"Ingreso",Movimientos!$A$5:$A$1004,">="&$A13,Movimientos!$A$5:$A$1004,"<"&EDATE($A13,1)) | C13: =SUMIFS(Movimientos!$E$5:$E$1004,Movimientos!$B$5:$B$1004,"Gasto",Movimientos!$A$5:$A$1004,">="&$A13,Movimientos!$A$5:$A$1004,"<"&EDATE($A13,1)) | D13: =B13-C13 | E13: =SUMIFS(Ahorro!$D$5:$D$504,Ahorro!$B$5:$B$504,"Aportación",Ahorro!$A$5:$A$504,">="&$A13,Ahorro!$A$5:$A$504,"<"&EDATE($A13,1))-SUMIFS(Ahorro!$D$5:$D$504,Ahorro!$B$5:$B$504,"Retirada",Ahorro!$A$5:$A$504,">="&$A13,Ahorro!$A$5:$A$504,"<"&EDATE($A13,1)) | F13: =Ajustes!$B$5+SUMIFS(Movimientos!$E$5:$E$1004,Movimientos!$B$5:$B$1004,"Ingreso",Movimientos!$A$5:$A$1004,"<"&EDATE($A13,1))-SUMIFS(Movimientos!$E$5:$E$1004,Movimientos!$B$5:$B$1004,"Gasto",Movimientos!$A$5:$A$1004,"<"&EDATE($A13,1))-(SUMIFS(Ahorro!$D$5:$D$504,Ahorro!$B$5:$B$504,"Aportación",Ahorro!$A$5:$A$504,"<"&EDATE($A13,1))-SUMIFS(Ahorro!$D$5:$D$504,Ahorro!$B$5:$B$504,"Retirada",Ahorro!$A$5:$A$504,"<"&EDATE($A13,1)))
A14: =DATE(Ajustes!$B$4,3,1) | B14: =SUMIFS(Movimientos!$E$5:$E$1004,Movimientos!$B$5:$B$1004,"Ingreso",Movimientos!$A$5:$A$1004,">="&$A14,Movimientos!$A$5:$A$1004,"<"&EDATE($A14,1)) | C14: =SUMIFS(Movimientos!$E$5:$E$1004,Movimientos!$B$5:$B$1004,"Gasto",Movimientos!$A$5:$A$1004,">="&$A14,Movimientos!$A$5:$A$1004,"<"&EDATE($A14,1)) | D14: =B14-C14 | E14: =SUMIFS(Ahorro!$D$5:$D$504,Ahorro!$B$5:$B$504,"Aportación",Ahorro!$A$5:$A$504,">="&$A14,Ahorro!$A$5:$A$504,"<"&EDATE($A14,1))-SUMIFS(Ahorro!$D$5:$D$504,Ahorro!$B$5:$B$504,"Retirada",Ahorro!$A$5:$A$504,">="&$A14,Ahorro!$A$5:$A$504,"<"&EDATE($A14,1)) | F14: =Ajustes!$B$5+SUMIFS(Movimientos!$E$5:$E$1004,Movimientos!$B$5:$B$1004,"Ingreso",Movimientos!$A$5:$A$1004,"<"&EDATE($A14,1))-SUMIFS(Movimientos!$E$5:$E$1004,Movimientos!$B$5:$B$1004,"Gasto",Movimientos!$A$5:$A$1004,"<"&EDATE($A14,1))-(SUMIFS(Ahorro!$D$5:$D$504,Ahorro!$B$5:$B$504,"Aportación",Ahorro!$A$5:$A$504,"<"&EDATE($A14,1))-SUMIFS(Ahorro!$D$5:$D$504,Ahorro!$B$5:$B$504,"Retirada",Ahorro!$A$5:$A$504,"<"&EDATE($A14,1)))
A15: =DATE(Ajustes!$B$4,4,1) | B15: =SUMIFS(Movimientos!$E$5:$E$1004,Movimientos!$B$5:$B$1004,"Ingreso",Movimientos!$A$5:$A$1004,">="&$A15,Movimientos!$A$5:$A$1004,"<"&EDATE($A15,1)) | C15: =SUMIFS(Movimientos!$E$5:$E$1004,Movimientos!$B$5:$B$1004,"Gasto",Movimientos!$A$5:$A$1004,">="&$A15,Movimientos!$A$5:$A$1004,"<"&EDATE($A15,1)) | D15: =B15-C15 | E15: =SUMIFS(Ahorro!$D$5:$D$504,Ahorro!$B$5:$B$504,"Aportación",Ahorro!$A$5:$A$504,">="&$A15,Ahorro!$A$5:$A$504,"<"&EDATE($A15,1))-SUMIFS(Ahorro!$D$5:$D$504,Ahorro!$B$5:$B$504,"Retirada",Ahorro!$A$5:$A$504,">="&$A15,Ahorro!$A$5:$A$504,"<"&EDATE($A15,1)) | F15: =Ajustes!$B$5+SUMIFS(Movimientos!$E$5:$E$1004,Movimientos!$B$5:$B$1004,"Ingreso",Movimientos!$A$5:$A$1004,"<"&EDATE($A15,1))-SUMIFS(Movimientos!$E$5:$E$1004,Movimientos!$B$5:$B$1004,"Gasto",Movimientos!$A$5:$A$1004,"<"&EDATE($A15,1))-(SUMIFS(Ahorro!$D$5:$D$504,Ahorro!$B$5:$B$504,"Aportación",Ahorro!$A$5:$A$504,"<"&EDATE($A15,1))-SUMIFS(Ahorro!$D$5:$D$504,Ahorro!$B$5:$B$504,"Retirada",Ahorro!$A$5:$A$504,"<"&EDATE($A15,1)))
A16: =DATE(Ajustes!$B$4,5,1) | B16: =SUMIFS(Movimientos!$E$5:$E$1004,Movimientos!$B$5:$B$1004,"Ingreso",Movimientos!$A$5:$A$1004,">="&$A16,Movimientos!$A$5:$A$1004,"<"&EDATE($A16,1)) | C16: =SUMIFS(Movimientos!$E$5:$E$1004,Movimientos!$B$5:$B$1004,"Gasto",Movimientos!$A$5:$A$1004,">="&$A16,Movimientos!$A$5:$A$1004,"<"&EDATE($A16,1)) | D16: =B16-C16 | E16: =SUMIFS(Ahorro!$D$5:$D$504,Ahorro!$B$5:$B$504,"Aportación",Ahorro!$A$5:$A$504,">="&$A16,Ahorro!$A$5:$A$504,"<"&EDATE($A16,1))-SUMIFS(Ahorro!$D$5:$D$504,Ahorro!$B$5:$B$504,"Retirada",Ahorro!$A$5:$A$504,">="&$A16,Ahorro!$A$5:$A$504,"<"&EDATE($A16,1)) | F16: =Ajustes!$B$5+SUMIFS(Movimientos!$E$5:$E$1004,Movimientos!$B$5:$B$1004,"Ingreso",Movimientos!$A$5:$A$1004,"<"&EDATE($A16,1))-SUMIFS(Movimientos!$E$5:$E$1004,Movimientos!$B$5:$B$1004,"Gasto",Movimientos!$A$5:$A$1004,"<"&EDATE($A16,1))-(SUMIFS(Ahorro!$D$5:$D$504,Ahorro!$B$5:$B$504,"Aportación",Ahorro!$A$5:$A$504,"<"&EDATE($A16,1))-SUMIFS(Ahorro!$D$5:$D$504,Ahorro!$B$5:$B$504,"Retirada",Ahorro!$A$5:$A$504,"<"&EDATE($A16,1)))
A17: =DATE(Ajustes!$B$4,6,1) | B17: =SUMIFS(Movimientos!$E$5:$E$1004,Movimientos!$B$5:$B$1004,"Ingreso",Movimientos!$A$5:$A$1004,">="&$A17,Movimientos!$A$5:$A$1004,"<"&EDATE($A17,1)) | C17: =SUMIFS(Movimientos!$E$5:$E$1004,Movimientos!$B$5:$B$1004,"Gasto",Movimientos!$A$5:$A$1004,">="&$A17,Movimientos!$A$5:$A$1004,"<"&EDATE($A17,1)) | D17: =B17-C17 | E17: =SUMIFS(Ahorro!$D$5:$D$504,Ahorro!$B$5:$B$504,"Aportación",Ahorro!$A$5:$A$504,">="&$A17,Ahorro!$A$5:$A$504,"<"&EDATE($A17,1))-SUMIFS(Ahorro!$D$5:$D$504,Ahorro!$B$5:$B$504,"Retirada",Ahorro!$A$5:$A$504,">="&$A17,Ahorro!$A$5:$A$504,"<"&EDATE($A17,1)) | F17: =Ajustes!$B$5+SUMIFS(Movimientos!$E$5:$E$1004,Movimientos!$B$5:$B$1004,"Ingreso",Movimientos!$A$5:$A$1004,"<"&EDATE($A17,1))-SUMIFS(Movimientos!$E$5:$E$1004,Movimientos!$B$5:$B$1004,"Gasto",Movimientos!$A$5:$A$1004,"<"&EDATE($A17,1))-(SUMIFS(Ahorro!$D$5:$D$504,Ahorro!$B$5:$B$504,"Aportación",Ahorro!$A$5:$A$504,"<"&EDATE($A17,1))-SUMIFS(Ahorro!$D$5:$D$504,Ahorro!$B$5:$B$504,"Retirada",Ahorro!$A$5:$A$504,"<"&EDATE($A17,1)))
A18: =DATE(Ajustes!$B$4,7,1) | B18: =SUMIFS(Movimientos!$E$5:$E$1004,Movimientos!$B$5:$B$1004,"Ingreso",Movimientos!$A$5:$A$1004,">="&$A18,Movimientos!$A$5:$A$1004,"<"&EDATE($A18,1)) | C18: =SUMIFS(Movimientos!$E$5:$E$1004,Movimientos!$B$5:$B$1004,"Gasto",Movimientos!$A$5:$A$1004,">="&$A18,Movimientos!$A$5:$A$1004,"<"&EDATE($A18,1)) | D18: =B18-C18 | E18: =SUMIFS(Ahorro!$D$5:$D$504,Ahorro!$B$5:$B$504,"Aportación",Ahorro!$A$5:$A$504,">="&$A18,Ahorro!$A$5:$A$504,"<"&EDATE($A18,1))-SUMIFS(Ahorro!$D$5:$D$504,Ahorro!$B$5:$B$504,"Retirada",Ahorro!$A$5:$A$504,">="&$A18,Ahorro!$A$5:$A$504,"<"&EDATE($A18,1)) | F18: =Ajustes!$B$5+SUMIFS(Movimientos!$E$5:$E$1004,Movimientos!$B$5:$B$1004,"Ingreso",Movimientos!$A$5:$A$1004,"<"&EDATE($A18,1))-SUMIFS(Movimientos!$E$5:$E$1004,Movimientos!$B$5:$B$1004,"Gasto",Movimientos!$A$5:$A$1004,"<"&EDATE($A18,1))-(SUMIFS(Ahorro!$D$5:$D$504,Ahorro!$B$5:$B$504,"Aportación",Ahorro!$A$5:$A$504,"<"&EDATE($A18,1))-SUMIFS(Ahorro!$D$5:$D$504,Ahorro!$B$5:$B$504,"Retirada",Ahorro!$A$5:$A$504,"<"&EDATE($A18,1)))
A19: =DATE(Ajustes!$B$4,8,1) | B19: =SUMIFS(Movimientos!$E$5:$E$1004,Movimientos!$B$5:$B$1004,"Ingreso",Movimientos!$A$5:$A$1004,">="&$A19,Movimientos!$A$5:$A$1004,"<"&EDATE($A19,1)) | C19: =SUMIFS(Movimientos!$E$5:$E$1004,Movimientos!$B$5:$B$1004,"Gasto",Movimientos!$A$5:$A$1004,">="&$A19,Movimientos!$A$5:$A$1004,"<"&EDATE($A19,1)) | D19: =B19-C19 | E19: =SUMIFS(Ahorro!$D$5:$D$504,Ahorro!$B$5:$B$504,"Aportación",Ahorro!$A$5:$A$504,">="&$A19,Ahorro!$A$5:$A$504,"<"&EDATE($A19,1))-SUMIFS(Ahorro!$D$5:$D$504,Ahorro!$B$5:$B$504,"Retirada",Ahorro!$A$5:$A$504,">="&$A19,Ahorro!$A$5:$A$504,"<"&EDATE($A19,1)) | F19: =Ajustes!$B$5+SUMIFS(Movimientos!$E$5:$E$1004,Movimientos!$B$5:$B$1004,"Ingreso",Movimientos!$A$5:$A$1004,"<"&EDATE($A19,1))-SUMIFS(Movimientos!$E$5:$E$1004,Movimientos!$B$5:$B$1004,"Gasto",Movimientos!$A$5:$A$1004,"<"&EDATE($A19,1))-(SUMIFS(Ahorro!$D$5:$D$504,Ahorro!$B$5:$B$504,"Aportación",Ahorro!$A$5:$A$504,"<"&EDATE($A19,1))-SUMIFS(Ahorro!$D$5:$D$504,Ahorro!$B$5:$B$504,"Retirada",Ahorro!$A$5:$A$504,"<"&EDATE($A19,1)))
A20: =DATE(Ajustes!$B$4,9,1) | B20: =SUMIFS(Movimientos!$E$5:$E$1004,Movimientos!$B$5:$B$1004,"Ingreso",Movimientos!$A$5:$A$1004,">="&$A20,Movimientos!$A$5:$A$1004,"<"&EDATE($A20,1)) | C20: =SUMIFS(Movimientos!$E$5:$E$1004,Movimientos!$B$5:$B$1004,"Gasto",Movimientos!$A$5:$A$1004,">="&$A20,Movimientos!$A$5:$A$1004,"<"&EDATE($A20,1)) | D20: =B20-C20 | E20: =SUMIFS(Ahorro!$D$5:$D$504,Ahorro!$B$5:$B$504,"Aportación",Ahorro!$A$5:$A$504,">="&$A20,Ahorro!$A$5:$A$504,"<"&EDATE($A20,1))-SUMIFS(Ahorro!$D$5:$D$504,Ahorro!$B$5:$B$504,"Retirada",Ahorro!$A$5:$A$504,">="&$A20,Ahorro!$A$5:$A$504,"<"&EDATE($A20,1)) | F20: =Ajustes!$B$5+SUMIFS(Movimientos!$E$5:$E$1004,Movimientos!$B$5:$B$1004,"Ingreso",Movimientos!$A$5:$A$1004,"<"&EDATE($A20,1))-SUMIFS(Movimientos!$E$5:$E$1004,Movimientos!$B$5:$B$1004,"Gasto",Movimientos!$A$5:$A$1004,"<"&EDATE($A20,1))-(SUMIFS(Ahorro!$D$5:$D$504,Ahorro!$B$5:$B$504,"Aportación",Ahorro!$A$5:$A$504,"<"&EDATE($A20,1))-SUMIFS(Ahorro!$D$5:$D$504,Ahorro!$B$5:$B$504,"Retirada",Ahorro!$A$5:$A$504,"<"&EDATE($A20,1)))
A21: =DATE(Ajustes!$B$4,10,1) | B21: =SUMIFS(Movimientos!$E$5:$E$1004,Movimientos!$B$5:$B$1004,"Ingreso",Movimientos!$A$5:$A$1004,">="&$A21,Movimientos!$A$5:$A$1004,"<"&EDATE($A21,1)) | C21: =SUMIFS(Movimientos!$E$5:$E$1004,Movimientos!$B$5:$B$1004,"Gasto",Movimientos!$A$5:$A$1004,">="&$A21,Movimientos!$A$5:$A$1004,"<"&EDATE($A21,1)) | D21: =B21-C21 | E21: =SUMIFS(Ahorro!$D$5:$D$504,Ahorro!$B$5:$B$504,"Aportación",Ahorro!$A$5:$A$504,">="&$A21,Ahorro!$A$5:$A$504,"<"&EDATE($A21,1))-SUMIFS(Ahorro!$D$5:$D$504,Ahorro!$B$5:$B$504,"Retirada",Ahorro!$A$5:$A$504,">="&$A21,Ahorro!$A$5:$A$504,"<"&EDATE($A21,1)) | F21: =Ajustes!$B$5+SUMIFS(Movimientos!$E$5:$E$1004,Movimientos!$B$5:$B$1004,"Ingreso",Movimientos!$A$5:$A$1004,"<"&EDATE($A21,1))-SUMIFS(Movimientos!$E$5:$E$1004,Movimientos!$B$5:$B$1004,"Gasto",Movimientos!$A$5:$A$1004,"<"&EDATE($A21,1))-(SUMIFS(Ahorro!$D$5:$D$504,Ahorro!$B$5:$B$504,"Aportación",Ahorro!$A$5:$A$504,"<"&EDATE($A21,1))-SUMIFS(Ahorro!$D$5:$D$504,Ahorro!$B$5:$B$504,"Retirada",Ahorro!$A$5:$A$504,"<"&EDATE($A21,1)))
A22: =DATE(Ajustes!$B$4,11,1) | B22: =SUMIFS(Movimientos!$E$5:$E$1004,Movimientos!$B$5:$B$1004,"Ingreso",Movimientos!$A$5:$A$1004,">="&$A22,Movimientos!$A$5:$A$1004,"<"&EDATE($A22,1)) | C22: =SUMIFS(Movimientos!$E$5:$E$1004,Movimientos!$B$5:$B$1004,"Gasto",Movimientos!$A$5:$A$1004,">="&$A22,Movimientos!$A$5:$A$1004,"<"&EDATE($A22,1)) | D22: =B22-C22 | E22: =SUMIFS(Ahorro!$D$5:$D$504,Ahorro!$B$5:$B$504,"Aportación",Ahorro!$A$5:$A$504,">="&$A22,Ahorro!$A$5:$A$504,"<"&EDATE($A22,1))-SUMIFS(Ahorro!$D$5:$D$504,Ahorro!$B$5:$B$504,"Retirada",Ahorro!$A$5:$A$504,">="&$A22,Ahorro!$A$5:$A$504,"<"&EDATE($A22,1)) | F22: =Ajustes!$B$5+SUMIFS(Movimientos!$E$5:$E$1004,Movimientos!$B$5:$B$1004,"Ingreso",Movimientos!$A$5:$A$1004,"<"&EDATE($A22,1))-SUMIFS(Movimientos!$E$5:$E$1004,Movimientos!$B$5:$B$1004,"Gasto",Movimientos!$A$5:$A$1004,"<"&EDATE($A22,1))-(SUMIFS(Ahorro!$D$5:$D$504,Ahorro!$B$5:$B$504,"Aportación",Ahorro!$A$5:$A$504,"<"&EDATE($A22,1))-SUMIFS(Ahorro!$D$5:$D$504,Ahorro!$B$5:$B$504,"Retirada",Ahorro!$A$5:$A$504,"<"&EDATE($A22,1)))
A23: =DATE(Ajustes!$B$4,12,1) | B23: =SUMIFS(Movimientos!$E$5:$E$1004,Movimientos!$B$5:$B$1004,"Ingreso",Movimientos!$A$5:$A$1004,">="&$A23,Movimientos!$A$5:$A$1004,"<"&EDATE($A23,1)) | C23: =SUMIFS(Movimientos!$E$5:$E$1004,Movimientos!$B$5:$B$1004,"Gasto",Movimientos!$A$5:$A$1004,">="&$A23,Movimientos!$A$5:$A$1004,"<"&EDATE($A23,1)) | D23: =B23-C23 | E23: =SUMIFS(Ahorro!$D$5:$D$504,Ahorro!$B$5:$B$504,"Aportación",Ahorro!$A$5:$A$504,">="&$A23,Ahorro!$A$5:$A$504,"<"&EDATE($A23,1))-SUMIFS(Ahorro!$D$5:$D$504,Ahorro!$B$5:$B$504,"Retirada",Ahorro!$A$5:$A$504,">="&$A23,Ahorro!$A$5:$A$504,"<"&EDATE($A23,1)) | F23: =Ajustes!$B$5+SUMIFS(Movimientos!$E$5:$E$1004,Movimientos!$B$5:$B$1004,"Ingreso",Movimientos!$A$5:$A$1004,"<"&EDATE($A23,1))-SUMIFS(Movimientos!$E$5:$E$1004,Movimientos!$B$5:$B$1004,"Gasto",Movimientos!$A$5:$A$1004,"<"&EDATE($A23,1))-(SUMIFS(Ahorro!$D$5:$D$504,Ahorro!$B$5:$B$504,"Aportación",Ahorro!$A$5:$A$504,"<"&EDATE($A23,1))-SUMIFS(Ahorro!$D$5:$D$504,Ahorro!$B$5:$B$504,"Retirada",Ahorro!$A$5:$A$504,"<"&EDATE($A23,1)))
A24: Total del año | B24: =SUM(B12:B23) | C24: =SUM(C12:C23) | D24: =SUM(D12:D23) | E24: =SUM(E12:E23)
A26: Por categorías (año completo)
A27: Categoría | B27: Ingresos | C27: Gastos | D27: % de tus gastos
A28: =IF(Ajustes!$A$12="","",Ajustes!$A$12) | B28: =IF($A28="","",SUMIFS(Movimientos!$E$5:$E$1004,Movimientos!$B$5:$B$1004,"Ingreso",Movimientos!$C$5:$C$1004,$A28,Movimientos!$A$5:$A$1004,">="&DATE(Ajustes!$B$4,1,1),Movimientos!$A$5:$A$1004,"<"&DATE(Ajustes!$B$4+1,1,1))) | C28: =IF($A28="","",SUMIFS(Movimientos!$E$5:$E$1004,Movimientos!$B$5:$B$1004,"Gasto",Movimientos!$C$5:$C$1004,$A28,Movimientos!$A$5:$A$1004,">="&DATE(Ajustes!$B$4,1,1),Movimientos!$A$5:$A$1004,"<"&DATE(Ajustes!$B$4+1,1,1))) | D28: =IF(OR($A28="",$E$8=0),"",C28/$E$8)
A29: =IF(Ajustes!$A$13="","",Ajustes!$A$13) | B29: =IF($A29="","",SUMIFS(Movimientos!$E$5:$E$1004,Movimientos!$B$5:$B$1004,"Ingreso",Movimientos!$C$5:$C$1004,$A29,Movimientos!$A$5:$A$1004,">="&DATE(Ajustes!$B$4,1,1),Movimientos!$A$5:$A$1004,"<"&DATE(Ajustes!$B$4+1,1,1))) | C29: =IF($A29="","",SUMIFS(Movimientos!$E$5:$E$1004,Movimientos!$B$5:$B$1004,"Gasto",Movimientos!$C$5:$C$1004,$A29,Movimientos!$A$5:$A$1004,">="&DATE(Ajustes!$B$4,1,1),Movimientos!$A$5:$A$1004,"<"&DATE(Ajustes!$B$4+1,1,1))) | D29: =IF(OR($A29="",$E$8=0),"",C29/$E$8)
A30: =IF(Ajustes!$A$14="","",Ajustes!$A$14) | B30: =IF($A30="","",SUMIFS(Movimientos!$E$5:$E$1004,Movimientos!$B$5:$B$1004,"Ingreso",Movimientos!$C$5:$C$1004,$A30,Movimientos!$A$5:$A$1004,">="&DATE(Ajustes!$B$4,1,1),Movimientos!$A$5:$A$1004,"<"&DATE(Ajustes!$B$4+1,1,1))) | C30: =IF($A30="","",SUMIFS(Movimientos!$E$5:$E$1004,Movimientos!$B$5:$B$1004,"Gasto",Movimientos!$C$5:$C$1004,$A30,Movimientos!$A$5:$A$1004,">="&DATE(Ajustes!$B$4,1,1),Movimientos!$A$5:$A$1004,"<"&DATE(Ajustes!$B$4+1,1,1))) | D30: =IF(OR($A30="",$E$8=0),"",C30/$E$8)
A31: =IF(Ajustes!$A$15="","",Ajustes!$A$15) | B31: =IF($A31="","",SUMIFS(Movimientos!$E$5:$E$1004,Movimientos!$B$5:$B$1004,"Ingreso",Movimientos!$C$5:$C$1004,$A31,Movimientos!$A$5:$A$1004,">="&DATE(Ajustes!$B$4,1,1),Movimientos!$A$5:$A$1004,"<"&DATE(Ajustes!$B$4+1,1,1))) | C31: =IF($A31="","",SUMIFS(Movimientos!$E$5:$E$1004,Movimientos!$B$5:$B$1004,"Gasto",Movimientos!$C$5:$C$1004,$A31,Movimientos!$A$5:$A$1004,">="&DATE(Ajustes!$B$4,1,1),Movimientos!$A$5:$A$1004,"<"&DATE(Ajustes!$B$4+1,1,1))) | D31: =IF(OR($A31="",$E$8=0),"",C31/$E$8)
A32: =IF(Ajustes!$A$16="","",Ajustes!$A$16) | B32: =IF($A32="","",SUMIFS(Movimientos!$E$5:$E$1004,Movimientos!$B$5:$B$1004,"Ingreso",Movimientos!$C$5:$C$1004,$A32,Movimientos!$A$5:$A$1004,">="&DATE(Ajustes!$B$4,1,1),Movimientos!$A$5:$A$1004,"<"&DATE(Ajustes!$B$4+1,1,1))) | C32: =IF($A32="","",SUMIFS(Movimientos!$E$5:$E$1004,Movimientos!$B$5:$B$1004,"Gasto",Movimientos!$C$5:$C$1004,$A32,Movimientos!$A$5:$A$1004,">="&DATE(Ajustes!$B$4,1,1),Movimientos!$A$5:$A$1004,"<"&DATE(Ajustes!$B$4+1,1,1))) | D32: =IF(OR($A32="",$E$8=0),"",C32/$E$8)
A33: =IF(Ajustes!$A$17="","",Ajustes!$A$17) | B33: =IF($A33="","",SUMIFS(Movimientos!$E$5:$E$1004,Movimientos!$B$5:$B$1004,"Ingreso",Movimientos!$C$5:$C$1004,$A33,Movimientos!$A$5:$A$1004,">="&DATE(Ajustes!$B$4,1,1),Movimientos!$A$5:$A$1004,"<"&DATE(Ajustes!$B$4+1,1,1))) | C33: =IF($A33="","",SUMIFS(Movimientos!$E$5:$E$1004,Movimientos!$B$5:$B$1004,"Gasto",Movimientos!$C$5:$C$1004,$A33,Movimientos!$A$5:$A$1004,">="&DATE(Ajustes!$B$4,1,1),Movimientos!$A$5:$A$1004,"<"&DATE(Ajustes!$B$4+1,1,1))) | D33: =IF(OR($A33="",$E$8=0),"",C33/$E$8)
A34: =IF(Ajustes!$A$18="","",Ajustes!$A$18) | B34: =IF($A34="","",SUMIFS(Movimientos!$E$5:$E$1004,Movimientos!$B$5:$B$1004,"Ingreso",Movimientos!$C$5:$C$1004,$A34,Movimientos!$A$5:$A$1004,">="&DATE(Ajustes!$B$4,1,1),Movimientos!$A$5:$A$1004,"<"&DATE(Ajustes!$B$4+1,1,1))) | C34: =IF($A34="","",SUMIFS(Movimientos!$E$5:$E$1004,Movimientos!$B$5:$B$1004,"Gasto",Movimientos!$C$5:$C$1004,$A34,Movimientos!$A$5:$A$1004,">="&DATE(Ajustes!$B$4,1,1),Movimientos!$A$5:$A$1004,"<"&DATE(Ajustes!$B$4+1,1,1))) | D34: =IF(OR($A34="",$E$8=0),"",C34/$E$8)
A35: =IF(Ajustes!$A$19="","",Ajustes!$A$19) | B35: =IF($A35="","",SUMIFS(Movimientos!$E$5:$E$1004,Movimientos!$B$5:$B$1004,"Ingreso",Movimientos!$C$5:$C$1004,$A35,Movimientos!$A$5:$A$1004,">="&DATE(Ajustes!$B$4,1,1),Movimientos!$A$5:$A$1004,"<"&DATE(Ajustes!$B$4+1,1,1))) | C35: =IF($A35="","",SUMIFS(Movimientos!$E$5:$E$1004,Movimientos!$B$5:$B$1004,"Gasto",Movimientos!$C$5:$C$1004,$A35,Movimientos!$A$5:$A$1004,">="&DATE(Ajustes!$B$4,1,1),Movimientos!$A$5:$A$1004,"<"&DATE(Ajustes!$B$4+1,1,1))) | D35: =IF(OR($A35="",$E$8=0),"",C35/$E$8)
A36: =IF(Ajustes!$A$20="","",Ajustes!$A$20) | B36: =IF($A36="","",SUMIFS(Movimientos!$E$5:$E$1004,Movimientos!$B$5:$B$1004,"Ingreso",Movimientos!$C$5:$C$1004,$A36,Movimientos!$A$5:$A$1004,">="&DATE(Ajustes!$B$4,1,1),Movimientos!$A$5:$A$1004,"<"&DATE(Ajustes!$B$4+1,1,1))) | C36: =IF($A36="","",SUMIFS(Movimientos!$E$5:$E$1004,Movimientos!$B$5:$B$1004,"Gasto",Movimientos!$C$5:$C$1004,$A36,Movimientos!$A$5:$A$1004,">="&DATE(Ajustes!$B$4,1,1),Movimientos!$A$5:$A$1004,"<"&DATE(Ajustes!$B$4+1,1,1))) | D36: =IF(OR($A36="",$E$8=0),"",C36/$E$8)
A37: =IF(Ajustes!$A$21="","",Ajustes!$A$21) | B37: =IF($A37="","",SUMIFS(Movimientos!$E$5:$E$1004,Movimientos!$B$5:$B$1004,"Ingreso",Movimientos!$C$5:$C$1004,$A37,Movimientos!$A$5:$A$1004,">="&DATE(Ajustes!$B$4,1,1),Movimientos!$A$5:$A$1004,"<"&DATE(Ajustes!$B$4+1,1,1))) | C37: =IF($A37="","",SUMIFS(Movimientos!$E$5:$E$1004,Movimientos!$B$5:$B$1004,"Gasto",Movimientos!$C$5:$C$1004,$A37,Movimientos!$A$5:$A$1004,">="&DATE(Ajustes!$B$4,1,1),Movimientos!$A$5:$A$1004,"<"&DATE(Ajustes!$B$4+1,1,1))) | D37: =IF(OR($A37="",$E$8=0),"",C37/$E$8)
A38: =IF(Ajustes!$A$22="","",Ajustes!$A$22) | B38: =IF($A38="","",SUMIFS(Movimientos!$E$5:$E$1004,Movimientos!$B$5:$B$1004,"Ingreso",Movimientos!$C$5:$C$1004,$A38,Movimientos!$A$5:$A$1004,">="&DATE(Ajustes!$B$4,1,1),Movimientos!$A$5:$A$1004,"<"&DATE(Ajustes!$B$4+1,1,1))) | C38: =IF($A38="","",SUMIFS(Movimientos!$E$5:$E$1004,Movimientos!$B$5:$B$1004,"Gasto",Movimientos!$C$5:$C$1004,$A38,Movimientos!$A$5:$A$1004,">="&DATE(Ajustes!$B$4,1,1),Movimientos!$A$5:$A$1004,"<"&DATE(Ajustes!$B$4+1,1,1))) | D38: =IF(OR($A38="",$E$8=0),"",C38/$E$8)
A39: =IF(Ajustes!$A$23="","",Ajustes!$A$23) | B39: =IF($A39="","",SUMIFS(Movimientos!$E$5:$E$1004,Movimientos!$B$5:$B$1004,"Ingreso",Movimientos!$C$5:$C$1004,$A39,Movimientos!$A$5:$A$1004,">="&DATE(Ajustes!$B$4,1,1),Movimientos!$A$5:$A$1004,"<"&DATE(Ajustes!$B$4+1,1,1))) | C39: =IF($A39="","",SUMIFS(Movimientos!$E$5:$E$1004,Movimientos!$B$5:$B$1004,"Gasto",Movimientos!$C$5:$C$1004,$A39,Movimientos!$A$5:$A$1004,">="&DATE(Ajustes!$B$4,1,1),Movimientos!$A$5:$A$1004,"<"&DATE(Ajustes!$B$4+1,1,1))) | D39: =IF(OR($A39="",$E$8=0),"",C39/$E$8)
A40: =IF(Ajustes!$A$24="","",Ajustes!$A$24) | B40: =IF($A40="","",SUMIFS(Movimientos!$E$5:$E$1004,Movimientos!$B$5:$B$1004,"Ingreso",Movimientos!$C$5:$C$1004,$A40,Movimientos!$A$5:$A$1004,">="&DATE(Ajustes!$B$4,1,1),Movimientos!$A$5:$A$1004,"<"&DATE(Ajustes!$B$4+1,1,1))) | C40: =IF($A40="","",SUMIFS(Movimientos!$E$5:$E$1004,Movimientos!$B$5:$B$1004,"Gasto",Movimientos!$C$5:$C$1004,$A40,Movimientos!$A$5:$A$1004,">="&DATE(Ajustes!$B$4,1,1),Movimientos!$A$5:$A$1004,"<"&DATE(Ajustes!$B$4+1,1,1))) | D40: =IF(OR($A40="",$E$8=0),"",C40/$E$8)
A41: =IF(Ajustes!$A$25="","",Ajustes!$A$25) | B41: =IF($A41="","",SUMIFS(Movimientos!$E$5:$E$1004,Movimientos!$B$5:$B$1004,"Ingreso",Movimientos!$C$5:$C$1004,$A41,Movimientos!$A$5:$A$1004,">="&DATE(Ajustes!$B$4,1,1),Movimientos!$A$5:$A$1004,"<"&DATE(Ajustes!$B$4+1,1,1))) | C41: =IF($A41="","",SUMIFS(Movimientos!$E$5:$E$1004,Movimientos!$B$5:$B$1004,"Gasto",Movimientos!$C$5:$C$1004,$A41,Movimientos!$A$5:$A$1004,">="&DATE(Ajustes!$B$4,1,1),Movimientos!$A$5:$A$1004,"<"&DATE(Ajustes!$B$4+1,1,1))) | D41: =IF(OR($A41="",$E$8=0),"",C41/$E$8)
A42: =IF(Ajustes!$A$26="","",Ajustes!$A$26) | B42: =IF($A42="","",SUMIFS(Movimientos!$E$5:$E$1004,Movimientos!$B$5:$B$1004,"Ingreso",Movimientos!$C$5:$C$1004,$A42,Movimientos!$A$5:$A$1004,">="&DATE(Ajustes!$B$4,1,1),Movimientos!$A$5:$A$1004,"<"&DATE(Ajustes!$B$4+1,1,1))) | C42: =IF($A42="","",SUMIFS(Movimientos!$E$5:$E$1004,Movimientos!$B$5:$B$1004,"Gasto",Movimientos!$C$5:$C$1004,$A42,Movimientos!$A$5:$A$1004,">="&DATE(Ajustes!$B$4,1,1),Movimientos!$A$5:$A$1004,"<"&DATE(Ajustes!$B$4+1,1,1))) | D42: =IF(OR($A42="",$E$8=0),"",C42/$E$8)
A43: =IF(Ajustes!$A$27="","",Ajustes!$A$27) | B43: =IF($A43="","",SUMIFS(Movimientos!$E$5:$E$1004,Movimientos!$B$5:$B$1004,"Ingreso",Movimientos!$C$5:$C$1004,$A43,Movimientos!$A$5:$A$1004,">="&DATE(Ajustes!$B$4,1,1),Movimientos!$A$5:$A$1004,"<"&DATE(Ajustes!$B$4+1,1,1))) | C43: =IF($A43="","",SUMIFS(Movimientos!$E$5:$E$1004,Movimientos!$B$5:$B$1004,"Gasto",Movimientos!$C$5:$C$1004,$A43,Movimientos!$A$5:$A$1004,">="&DATE(Ajustes!$B$4,1,1),Movimientos!$A$5:$A$1004,"<"&DATE(Ajustes!$B$4+1,1,1))) | D43: =IF(OR($A43="",$E$8=0),"",C43/$E$8)
A44: =IF(Ajustes!$A$28="","",Ajustes!$A$28) | B44: =IF($A44="","",SUMIFS(Movimientos!$E$5:$E$1004,Movimientos!$B$5:$B$1004,"Ingreso",Movimientos!$C$5:$C$1004,$A44,Movimientos!$A$5:$A$1004,">="&DATE(Ajustes!$B$4,1,1),Movimientos!$A$5:$A$1004,"<"&DATE(Ajustes!$B$4+1,1,1))) | C44: =IF($A44="","",SUMIFS(Movimientos!$E$5:$E$1004,Movimientos!$B$5:$B$1004,"Gasto",Movimientos!$C$5:$C$1004,$A44,Movimientos!$A$5:$A$1004,">="&DATE(Ajustes!$B$4,1,1),Movimientos!$A$5:$A$1004,"<"&DATE(Ajustes!$B$4+1,1,1))) | D44: =IF(OR($A44="",$E$8=0),"",C44/$E$8)
...

Sheet Movimientos
A1: Movimientos
A2: Apunta aquí cada ingreso y cada gasto. Una fila por movimiento. Borra las filas de ejemplo cuando empieces.
A3: El importe va siempre en positivo: el Tipo (Ingreso o Gasto) indica si suma o resta.
A4: Fecha | B4: Tipo | C4: Categoría | D4: Concepto | E4: Importe (€) | F4: Saldo disponible ese día (€)
A5: 46296 | B5: Ingreso | C5: Nómina | D5: Ejemplo: nómina de octubre | E5: 1850 | F5: =IF(OR($A5="",$E5=""),"",Ajustes!$B$5+SUMIFS(Movimientos!$E$5:$E$1004,Movimientos!$B$5:$B$1004,"Ingreso",Movimientos!$A$5:$A$1004,"<="&$A5)-SUMIFS(Movimientos!$E$5:$E$1004,Movimientos!$B$5:$B$1004,"Gasto",Movimientos!$A$5:$A$1004,"<="&$A5)-(SUMIFS(Ahorro!$D$5:$D$504,Ahorro!$B$5:$B$504,"Aportación",Ahorro!$A$5:$A$504,"<="&$A5)-SUMIFS(Ahorro!$D$5:$D$504,Ahorro!$B$5:$B$504,"Retirada",Ahorro!$A$5:$A$504,"<="&$A5)))
A6: 46297 | B6: Gasto | C6: Vivienda | D6: Ejemplo: alquiler | E6: 650 | F6: =IF(OR($A6="",$E6=""),"",Ajustes!$B$5+SUMIFS(Movimientos!$E$5:$E$1004,Movimientos!$B$5:$B$1004,"Ingreso",Movimientos!$A$5:$A$1004,"<="&$A6)-SUMIFS(Movimientos!$E$5:$E$1004,Movimientos!$B$5:$B$1004,"Gasto",Movimientos!$A$5:$A$1004,"<="&$A6)-(SUMIFS(Ahorro!$D$5:$D$504,Ahorro!$B$5:$B$504,"Aportación",Ahorro!$A$5:$A$504,"<="&$A6)-SUMIFS(Ahorro!$D$5:$D$504,Ahorro!$B$5:$B$504,"Retirada",Ahorro!$A$5:$A$504,"<="&$A6)))
A7: 46300 | B7: Gasto | C7: Alimentación | D7: Ejemplo: compra semanal | E7: 82.4 | F7: =IF(OR($A7="",$E7=""),"",Ajustes!$B$5+SUMIFS(Movimientos!$E$5:$E$1004,Movimientos!$B$5:$B$1004,"Ingreso",Movimientos!$A$5:$A$1004,"<="&$A7)-SUMIFS(Movimientos!$E$5:$E$1004,Movimientos!$B$5:$B$1004,"Gasto",Movimientos!$A$5:$A$1004,"<="&$A7)-(SUMIFS(Ahorro!$D$5:$D$504,Ahorro!$B$5:$B$504,"Aportación",Ahorro!$A$5:$A$504,"<="&$A7)-SUMIFS(Ahorro!$D$5:$D$504,Ahorro!$B$5:$B$504,"Retirada",Ahorro!$A$5:$A$504,"<="&$A7)))
A8: 46304 | B8: Gasto | C8: Suscripciones | D8: Ejemplo: música y streaming | E8: 21.98 | F8: =IF(OR($A8="",$E8=""),"",Ajustes!$B$5+SUMIFS(Movimientos!$E$5:$E$1004,Movimientos!$B$5:$B$1004,"Ingreso",Movimientos!$A$5:$A$1004,"<="&$A8)-SUMIFS(Movimientos!$E$5:$E$1004,Movimientos!$B$5:$B$1004,"Gasto",Movimientos!$A$5:$A$1004,"<="&$A8)-(SUMIFS(Ahorro!$D$5:$D$504,Ahorro!$B$5:$B$504,"Aportación",Ahorro!$A$5:$A$504,"<="&$A8)-SUMIFS(Ahorro!$D$5:$D$504,Ahorro!$B$5:$B$504,"Retirada",Ahorro!$A$5:$A$504,"<="&$A8)))
A9: 46307 | B9: Ingreso | C9: Ingresos extra | D9: Ejemplo: venta de un mueble | E9: 120 | F9: =IF(OR($A9="",$E9=""),"",Ajustes!$B$5+SUMIFS(Movimientos!$E$5:$E$1004,Movimientos!$B$5:$B$1004,"Ingreso",Movimientos!$A$5:$A$1004,"<="&$A9)-SUMIFS(Movimientos!$E$5:$E$1004,Movimientos!$B$5:$B$1004,"Gasto",Movimientos!$A$5:$A$1004,"<="&$A9)-(SUMIFS(Ahorro!$D$5:$D$504,Ahorro!$B$5:$B$504,"Aportación",Ahorro!$A$5:$A$504,"<="&$A9)-SUMIFS(Ahorro!$D$5:$D$504,Ahorro!$B$5:$B$504,"Retirada",Ahorro!$A$5:$A$504,"<="&$A9)))
A10: 46310 | B10: Gasto | C10: Transporte | D10: Ejemplo: abono de transporte | E10: 40 | F10: =IF(OR($A10="",$E10=""),"",Ajustes!$B$5+SUMIFS(Movimientos!$E$5:$E$1004,Movimientos!$B$5:$B$1004,"Ingreso",Movimientos!$A$5:$A$1004,"<="&$A10)-SUMIFS(Movimientos!$E$5:$E$1004,Movimientos!$B$5:$B$1004,"Gasto",Movimientos!$A$5:$A$1004,"<="&$A10)-(SUMIFS(Ahorro!$D$5:$D$504,Ahorro!$B$5:$B$504,"Aportación",Ahorro!$A$5:$A$504,"<="&$A10)-SUMIFS(Ahorro!$D$5:$D$504,Ahorro!$B$5:$B$504,"Retirada",Ahorro!$A$5:$A$504,"<="&$A10)))
A11: 46313 | B11: Gasto | C11: Ocio y restaurantes | D11: Ejemplo: cena con amigos | E11: 46.5 | F11: =IF(OR($A11="",$E11=""),"",Ajustes!$B$5+SUMIFS(Movimientos!$E$5:$E$1004,Movimientos!$B$5:$B$1004,"Ingreso",Movimientos!$A$5:$A$1004,"<="&$A11)-SUMIFS(Movimientos!$E$5:$E$1004,Movimientos!$B$5:$B$1004,"Gasto",Movimientos!$A$5:$A$1004,"<="&$A11)-(SUMIFS(Ahorro!$D$5:$D$504,Ahorro!$B$5:$B$504,"Aportación",Ahorro!$A$5:$A$504,"<="&$A11)-SUMIFS(Ahorro!$D$5:$D$504,Ahorro!$B$5:$B$504,"Retirada",Ahorro!$A$5:$A$504,"<="&$A11)))
A12: 46319 | B12: Gasto | C12: Salud | D12: Ejemplo: farmacia | E12: 18.75 | F12: =IF(OR($A12="",$E12=""),"",Ajustes!$B$5+SUMIFS(Movimientos!$E$5:$E$1004,Movimientos!$B$5:$B$1004,"Ingreso",Movimientos!$A$5:$A$1004,"<="&$A12)-SUMIFS(Movimientos!$E$5:$E$1004,Movimientos!$B$5:$B$1004,"Gasto",Movimientos!$A$5:$A$1004,"<="&$A12)-(SUMIFS(Ahorro!$D$5:$D$504,Ahorro!$B$5:$B$504,"Aportación",Ahorro!$A$5:$A$504,"<="&$A12)-SUMIFS(Ahorro!$D$5:$D$504,Ahorro!$B$5:$B$504,"Retirada",Ahorro!$A$5:$A$504,"<="&$A12)))
F13: =IF(OR($A13="",$E13=""),"",Ajustes!$B$5+SUMIFS(Movimientos!$E$5:$E$1004,Movimientos!$B$5:$B$1004,"Ingreso",Movimientos!$A$5:$A$1004,"<="&$A13)-SUMIFS(Movimientos!$E$5:$E$1004,Movimientos!$B$5:$B$1004,"Gasto",Movimientos!$A$5:$A$1004,"<="&$A13)-(SUMIFS(Ahorro!$D$5:$D$504,Ahorro!$B$5:$B$504,"Aportación",Ahorro!$A$5:$A$504,"<="&$A13)-SUMIFS(Ahorro!$D$5:$D$504,Ahorro!$B$5:$B$504,"Retirada",Ahorro!$A$5:$A$504,"<="&$A13)))
F14: =IF(OR($A14="",$E14=""),"",Ajustes!$B$5+SUMIFS(Movimientos!$E$5:$E$1004,Movimientos!$B$5:$B$1004,"Ingreso",Movimientos!$A$5:$A$1004,"<="&$A14)-SUMIFS(Movimientos!$E$5:$E$1004,Movimientos!$B$5:$B$1004,"Gasto",Movimientos!$A$5:$A$1004,"<="&$A14)-(SUMIFS(Ahorro!$D$5:$D$504,Ahorro!$B$5:$B$504,"Aportación",Ahorro!$A$5:$A$504,"<="&$A14)-SUMIFS(Ahorro!$D$5:$D$504,Ahorro!$B$5:$B$504,"Retirada",Ahorro!$A$5:$A$504,"<="&$A14)))
F15: =IF(OR($A15="",$E15=""),"",Ajustes!$B$5+SUMIFS(Movimientos!$E$5:$E$1004,Movimientos!$B$5:$B$1004,"Ingreso",Movimientos!$A$5:$A$1004,"<="&$A15)-SUMIFS(Movimientos!$E$5:$E$1004,Movimientos!$B$5:$B$1004,"Gasto",Movimientos!$A$5:$A$1004,"<="&$A15)-(SUMIFS(Ahorro!$D$5:$D$504,Ahorro!$B$5:$B$504,"Aportación",Ahorro!$A$5:$A$504,"<="&$A15)-SUMIFS(Ahorro!$D$5:$D$504,Ahorro!$B$5:$B$504,"Retirada",Ahorro!$A$5:$A$504,"<="&$A15)))
F16: =IF(OR($A16="",$E16=""),"",Ajustes!$B$5+SUMIFS(Movimientos!$E$5:$E$1004,Movimientos!$B$5:$B$1004,"Ingreso",Movimientos!$A$5:$A$1004,"<="&$A16)-SUMIFS(Movimientos!$E$5:$E$1004,Movimientos!$B$5:$B$1004,"Gasto",Movimientos!$A$5:$A$1004,"<="&$A16)-(SUMIFS(Ahorro!$D$5:$D$504,Ahorro!$B$5:$B$504,"Aportación",Ahorro!$A$5:$A$504,"<="&$A16)-SUMIFS(Ahorro!$D$5:$D$504,Ahorro!$B$5:$B$504,"Retirada",Ahorro!$A$5:$A$504,"<="&$A16)))
F17: =IF(OR($A17="",$E17=""),"",Ajustes!$B$5+SUMIFS(Movimientos!$E$5:$E$1004,Movimientos!$B$5:$B$1004,"Ingreso",Movimientos!$A$5:$A$1004,"<="&$A17)-SUMIFS(Movimientos!$E$5:$E$1004,Movimientos!$B$5:$B$1004,"Gasto",Movimientos!$A$5:$A$1004,"<="&$A17)-(SUMIFS(Ahorro!$D$5:$D$504,Ahorro!$B$5:$B$504,"Aportación",Ahorro!$A$5:$A$504,"<="&$A17)-SUMIFS(Ahorro!$D$5:$D$504,Ahorro!$B$5:$B$504,"Retirada",Ahorro!$A$5:$A$504,"<="&$A17)))
F18: =IF(OR($A18="",$E18=""),"",Ajustes!$B$5+SUMIFS(Movimientos!$E$5:$E$1004,Movimientos!$B$5:$B$1004,"Ingreso",Movimientos!$A$5:$A$1004,"<="&$A18)-SUMIFS(Movimientos!$E$5:$E$1004,Movimientos!$B$5:$B$1004,"Gasto",Movimientos!$A$5:$A$1004,"<="&$A18)-(SUMIFS(Ahorro!$D$5:$D$504,Ahorro!$B$5:$B$504,"Aportación",Ahorro!$A$5:$A$504,"<="&$A18)-SUMIFS(Ahorro!$D$5:$D$504,Ahorro!$B$5:$B$504,"Retirada",Ahorro!$A$5:$A$504,"<="&$A18)))
F19: =IF(OR($A19="",$E19=""),"",Ajustes!$B$5+SUMIFS(Movimientos!$E$5:$E$1004,Movimientos!$B$5:$B$1004,"Ingreso",Movimientos!$A$5:$A$1004,"<="&$A19)-SUMIFS(Movimientos!$E$5:$E$1004,Movimientos!$B$5:$B$1004,"Gasto",Movimientos!$A$5:$A$1004,"<="&$A19)-(SUMIFS(Ahorro!$D$5:$D$504,Ahorro!$B$5:$B$504,"Aportación",Ahorro!$A$5:$A$504,"<="&$A19)-SUMIFS(Ahorro!$D$5:$D$504,Ahorro!$B$5:$B$504,"Retirada",Ahorro!$A$5:$A$504,"<="&$A19)))
F20: =IF(OR($A20="",$E20=""),"",Ajustes!$B$5+SUMIFS(Movimientos!$E$5:$E$1004,Movimientos!$B$5:$B$1004,"Ingreso",Movimientos!$A$5:$A$1004,"<="&$A20)-SUMIFS(Movimientos!$E$5:$E$1004,Movimientos!$B$5:$B$1004,"Gasto",Movimientos!$A$5:$A$1004,"<="&$A20)-(SUMIFS(Ahorro!$D$5:$D$504,Ahorro!$B$5:$B$504,"Aportación",Ahorro!$A$5:$A$504,"<="&$A20)-SUMIFS(Ahorro!$D$5:$D$504,Ahorro!$B$5:$B$504,"Retirada",Ahorro!$A$5:$A$504,"<="&$A20)))
F21: =IF(OR($A21="",$E21=""),"",Ajustes!$B$5+SUMIFS(Movimientos!$E$5:$E$1004,Movimientos!$B$5:$B$1004,"Ingreso",Movimientos!$A$5:$A$1004,"<="&$A21)-SUMIFS(Movimientos!$E$5:$E$1004,Movimientos!$B$5:$B$1004,"Gasto",Movimientos!$A$5:$A$1004,"<="&$A21)-(SUMIFS(Ahorro!$D$5:$D$504,Ahorro!$B$5:$B$504,"Aportación",Ahorro!$A$5:$A$504,"<="&$A21)-SUMIFS(Ahorro!$D$5:$D$504,Ahorro!$B$5:$B$504,"Retirada",Ahorro!$A$5:$A$504,"<="&$A21)))
F22: =IF(OR($A22="",$E22=""),"",Ajustes!$B$5+SUMIFS(Movimientos!$E$5:$E$1004,Movimientos!$B$5:$B$1004,"Ingreso",Movimientos!$A$5:$A$1004,"<="&$A22)-SUMIFS(Movimientos!$E$5:$E$1004,Movimientos!$B$5:$B$1004,"Gasto",Movimientos!$A$5:$A$1004,"<="&$A22)-(SUMIFS(Ahorro!$D$5:$D$504,Ahorro!$B$5:$B$504,"Aportación",Ahorro!$A$5:$A$504,"<="&$A22)-SUMIFS(Ahorro!$D$5:$D$504,Ahorro!$B$5:$B$504,"Retirada",Ahorro!$A$5:$A$504,"<="&$A22)))
F23: =IF(OR($A23="",$E23=""),"",Ajustes!$B$5+SUMIFS(Movimientos!$E$5:$E$1004,Movimientos!$B$5:$B$1004,"Ingreso",Movimientos!$A$5:$A$1004,"<="&$A23)-SUMIFS(Movimientos!$E$5:$E$1004,Movimientos!$B$5:$B$1004,"Gasto",Movimientos!$A$5:$A$1004,"<="&$A23)-(SUMIFS(Ahorro!$D$5:$D$504,Ahorro!$B$5:$B$504,"Aportación",Ahorro!$A$5:$A$504,"<="&$A23)-SUMIFS(Ahorro!$D$5:$D$504,Ahorro!$B$5:$B$504,"Retirada",Ahorro!$A$5:$A$504,"<="&$A23)))
F24: =IF(OR($A24="",$E24=""),"",Ajustes!$B$5+SUMIFS(Movimientos!$E$5:$E$1004,Movimientos!$B$5:$B$1004,"Ingreso",Movimientos!$A$5:$A$1004,"<="&$A24)-SUMIFS(Movimientos!$E$5:$E$1004,Movimientos!$B$5:$B$1004,"Gasto",Movimientos!$A$5:$A$1004,"<="&$A24)-(SUMIFS(Ahorro!$D$5:$D$504,Ahorro!$B$5:$B$504,"Aportación",Ahorro!$A$5:$A$504,"<="&$A24)-SUMIFS(Ahorro!$D$5:$D$504,Ahorro!$B$5:$B$504,"Retirada",Ahorro!$A$5:$A$504,"<="&$A24)))
... F1004: =IF(OR($A1004="",$E1004=""),"",Ajustes!$B$5+SUMIFS(Movimientos!$E$5:$E$1004,Movimientos!$B$5:$B$1004,"Ingreso",Movimientos!$A$5:$A$1004,"<="&$A1004)-SUMIFS(Movimientos!$E$5:$E$1004,Movimientos!$B$5:$B$1004,"Gasto",Movimientos!$A$5:$A$1004,"<="&$A1004)-(SUMIFS(Ahorro!$D$5:$D$504,Ahorro!$B$5:$B$504,"Aportación",Ahorro!$A$5:$A$504,"<="&$A1004)-SUMIFS(Ahorro!$D$5:$D$504,Ahorro!$B$5:$B$504,"Retirada",Ahorro!$A$5:$A$504,"<="&$A1004)))

Sheet Ahorro
A1: Ahorro
A2: Apunta el dinero que apartas (aportación) o que sacas de tus ahorros (retirada).
A3: Lo que aportas al ahorro sale de tu dinero disponible; lo que retiras vuelve a él.
A4: Fecha | B4: Tipo | C4: Concepto | D4: Importe (€) | F4: Cómo vas con tu meta
A5: 46298 | B5: Aportación | C5: Ejemplo: ahorro mensual | D5: 200 | F5: Ahorro al empezar | G5: =Ajustes!$B$6
A6: 46315 | B6: Retirada | C6: Ejemplo: imprevisto del coche | D6: 60 | F6: Aportado | G6: =SUMIFS(Ahorro!$D$5:$D$504,Ahorro!$B$5:$B$504,"Aportación")
F7: Retirado | G7: =SUMIFS(Ahorro!$D$5:$D$504,Ahorro!$B$5:$B$504,"Retirada")
F8: Total ahorrado | G8: =G5+G6-G7
F9: Meta de ahorro | G9: =Ajustes!$B$7
F10: Te falta | G10: =MAX(G9-G8,0)
F11: Meta conseguida | G11: =IF(G9>0,G8/G9,0)
F12: =REPT("█",ROUND(MIN(G11,1)*20,0))&REPT("░",20-ROUND(MIN(G11,1)*20,0))

Sheet Ajustes
A1: Ajustes
A2: Rellena las celdas amarillas una sola vez al empezar. El resto se calcula solo.
A4: Año que quieres controlar | B4: 2026 | C4: Define los 12 meses del Resumen.
A5: Dinero en tu cuenta al empezar (€) | B5: 1500 | C5: Lo que tienes ahora en la cuenta, sin contar tus ahorros.
A6: Ahorro que ya tienes al empezar (€) | B6: 500 | C6: Lo que ya tienes guardado aparte (hucha, cuenta de ahorro…).
A7: Meta de ahorro (€) | B7: 3000 | C7: La cantidad que quieres llegar a tener ahorrada.
A10: Categorías
A11: Nombre de la categoría | C11: Puedes cambiar los nombres o usar los huecos vacíos para añadir las tuyas (hasta 20).
A12: Vivienda | C12: Las 13 primeras son para gastos y las 4 siguientes para ingresos, pero puedes usarlas como quieras.
A13: Alimentación
A14: Transporte
A15: Salud
A16: Ocio y restaurantes
A17: Compras y ropa
A18: Suscripciones
A19: Educación
A20: Viajes
A21: Seguros
A22: Impuestos y tasas
A23: Regalos y donaciones
A24: Otros gastos
... A28: Otros ingresos
